BEGIN:VCALENDAR
VERSION:2.0
PRODID:-//Friends For Life Animal Shelter - ECPv6.15.20//NONSGML v1.0//EN
CALSCALE:GREGORIAN
METHOD:PUBLISH
X-ORIGINAL-URL:https://friends4life.org
X-WR-CALDESC:Events for Friends For Life Animal Shelter
REFRESH-INTERVAL;VALUE=DURATION:PT1H
X-Robots-Tag:noindex
X-PUBLISHED-TTL:PT1H
BEGIN:VTIMEZONE
TZID:America/Chicago
BEGIN:DAYLIGHT
TZOFFSETFROM:-0600
TZOFFSETTO:-0500
TZNAME:CDT
DTSTART:20230312T080000
END:DAYLIGHT
BEGIN:STANDARD
TZOFFSETFROM:-0500
TZOFFSETTO:-0600
TZNAME:CST
DTSTART:20231105T070000
END:STANDARD
BEGIN:DAYLIGHT
TZOFFSETFROM:-0600
TZOFFSETTO:-0500
TZNAME:CDT
DTSTART:20240310T080000
END:DAYLIGHT
BEGIN:STANDARD
TZOFFSETFROM:-0500
TZOFFSETTO:-0600
TZNAME:CST
DTSTART:20241103T070000
END:STANDARD
BEGIN:DAYLIGHT
TZOFFSETFROM:-0600
TZOFFSETTO:-0500
TZNAME:CDT
DTSTART:20250309T080000
END:DAYLIGHT
BEGIN:STANDARD
TZOFFSETFROM:-0500
TZOFFSETTO:-0600
TZNAME:CST
DTSTART:20251102T070000
END:STANDARD
END:VTIMEZONE
BEGIN:VEVENT
DTSTART;TZID=America/Chicago:20240817T100000
DTEND;TZID=America/Chicago:20240817T150000
DTSTAMP:20260423T063747
CREATED:20240612T231144Z
LAST-MODIFIED:20240809T195029Z
UID:10000019-1723888800-1723906800@friends4life.org
SUMMARY:Friends For Life Birthday Bash!
DESCRIPTION:Hey Houston!  \n\n\n\nCome cool off at our animal shelter with our upcoming 22nd birthday bash at Friends For Life animal shelter! This fun-filled day will feature delicious food\, refreshing drinks\, exciting games\, and activities suitable for all ages. Bring your family and friends to enjoy a fantastic day of festivities while supporting a great cause. We can’t wait to celebrate with you!
URL:https://friends4life.org/events-calendar/friends-for-life-birthday-bash/
LOCATION:Friends For Life\, 107 E. 22nd St.\, Houston\, TX\, 77008\, United States
CATEGORIES:Community Event
ATTACH;FMTTYPE=image/png:https://friends4life.org/wp-content/uploads/2024/06/EVENT-BANNERS-9.png
END:VEVENT
BEGIN:VEVENT
DTSTART;TZID=America/Chicago:20240518T110000
DTEND;TZID=America/Chicago:20240518T143000
DTSTAMP:20260423T063747
CREATED:20240502T202729Z
LAST-MODIFIED:20240516T201858Z
UID:10000014-1716030000-1716042600@friends4life.org
SUMMARY:Adoption Event @Raising Cane's
DESCRIPTION:Join us for a purr-fect afternoon of fun and furry friends at Raising Cane’s! We are excited to partner with Raising Cane’s for an Adoption Event this Saturday May 18 from 11am to 2:30. Bring your family and friends to meet our adorable adoptable kittens\, who will be arriving in style on the Mobile Adoption Vehicle (MAV). \n\n\n\nWhile you cuddle with potential new family members\, enjoy delicious food from Raising Cane’s and take part in their fantastic gift basket giveaway! Don’t miss the chance to win some amazing swag and take home special mementos from the event. \n\n\n\nMention Friends For Life when you buy your meal and Raising Cane’s will be giving 15% of the sales to us. \n\n\n\nWhat to expect:– Meet and greet with adoptable kittens– Mobile Adoption Vehicle (MAV) onsite– Gift basket giveaway courtesy of Raising Cane’s– Exclusive Raising Cane’s swag \n\n\n\nWhether you’re looking to adopt a new furry friend or just want to enjoy a fun-filled day with the community\, this event is perfect for animal lovers of all ages. Come support a great cause and maybe even find your new best friend!
URL:https://friends4life.org/events-calendar/adoption-event-raising-canes/
LOCATION:Raising Cane’s\, 3007 Ella Blvd\, Houston\, Texas\, 77018\, United States
CATEGORIES:Adoption Event,Community Event
ATTACH;FMTTYPE=image/png:https://friends4life.org/wp-content/uploads/2024/05/EVENT-BANNERS-17-1.png
END:VEVENT
BEGIN:VEVENT
DTSTART;TZID=America/Chicago:20240406T100000
DTEND;TZID=America/Chicago:20240406T130000
DTSTAMP:20260423T063747
CREATED:20240404T233233Z
LAST-MODIFIED:20240405T164219Z
UID:10000002-1712397600-1712408400@friends4life.org
SUMMARY:Flea Market for Flea Prevention
DESCRIPTION:🛍️✨ Join us for a fantastic event that’s all about flea prevention and finding treasures! 🐾🏠 This Saturday is our annual “Flea Market for Flea Prevention” – our exciting garage sale featuring a wide array of items\, from home decor and tech gadgets to furniture and more! 🎉 By shopping with us\, not only will you score amazing deals\, but you’ll also support our mission to keep our furry friends flea-free and healthy. Don’t miss out on this opportunity to shop for a cause and make a difference for animals in need! See you there! 🐶🐱
URL:https://friends4life.org/events-calendar/flea-market-for-flea-prevention/
LOCATION:Friends For Life\, 107 E. 22nd St.\, Houston\, TX\, 77008\, United States
CATEGORIES:Community Event
ATTACH;FMTTYPE=image/png:https://friends4life.org/wp-content/uploads/2024/04/EVENT-BANNERS-3.png
END:VEVENT
END:VCALENDAR