BEGIN:VCALENDAR
VERSION:2.0
PRODID:-//Friends For Life Animal Shelter - ECPv6.15.20//NONSGML v1.0//EN
CALSCALE:GREGORIAN
METHOD:PUBLISH
X-WR-CALNAME:Friends For Life Animal Shelter
X-ORIGINAL-URL:https://friends4life.org
X-WR-CALDESC:Events for Friends For Life Animal Shelter
REFRESH-INTERVAL;VALUE=DURATION:PT1H
X-Robots-Tag:noindex
X-PUBLISHED-TTL:PT1H
BEGIN:VTIMEZONE
TZID:America/Chicago
BEGIN:DAYLIGHT
TZOFFSETFROM:-0600
TZOFFSETTO:-0500
TZNAME:CDT
DTSTART:20270314T080000
END:DAYLIGHT
BEGIN:STANDARD
TZOFFSETFROM:-0500
TZOFFSETTO:-0600
TZNAME:CST
DTSTART:20271107T070000
END:STANDARD
BEGIN:DAYLIGHT
TZOFFSETFROM:-0600
TZOFFSETTO:-0500
TZNAME:CDT
DTSTART:20280312T080000
END:DAYLIGHT
BEGIN:STANDARD
TZOFFSETFROM:-0500
TZOFFSETTO:-0600
TZNAME:CST
DTSTART:20281105T070000
END:STANDARD
BEGIN:DAYLIGHT
TZOFFSETFROM:-0600
TZOFFSETTO:-0500
TZNAME:CDT
DTSTART:20290311T080000
END:DAYLIGHT
BEGIN:STANDARD
TZOFFSETFROM:-0500
TZOFFSETTO:-0600
TZNAME:CST
DTSTART:20291104T070000
END:STANDARD
BEGIN:DAYLIGHT
TZOFFSETFROM:-0600
TZOFFSETTO:-0500
TZNAME:CDT
DTSTART:20300310T080000
END:DAYLIGHT
BEGIN:STANDARD
TZOFFSETFROM:-0500
TZOFFSETTO:-0600
TZNAME:CST
DTSTART:20301103T070000
END:STANDARD
END:VTIMEZONE
BEGIN:VEVENT
DTSTART;TZID=America/Chicago:20281113T191500
DTEND;TZID=America/Chicago:20281113T201500
DTSTAMP:20260425T194723
CREATED:20260303T185805Z
LAST-MODIFIED:20260305T020849Z
UID:10001343-1857755700-1857759300@friends4life.org
SUMMARY:Monday Group Run
DESCRIPTION:Live near the Houston Heights? Looking for a group run? \n\n\n\nEvery Monday evening\, a group of runners led by Melissa Taylor meets in the lobby of our animal shelter at 7:00 p.m. We head out at 7:15 p.m. from 107 East 22nd Street for a 4-mile run. Walkers cover 3 miles. \n\n\n\nGo at your own pace — no one gets left behind. We meet back at the shelter afterward to make sure everyone returns safely. \n\n\n\nBring a well-behaved dog\, or meet one of ours. 🐶
URL:https://friends4life.org/events-calendar/ffl-monday-run-club-2/2028-11-13/
LOCATION:Friends For Life animal shelter\, 107 E. 22nd St.\, Houston\, Texas\, 77008
ATTACH;FMTTYPE=image/jpeg:https://friends4life.org/wp-content/uploads/2026/03/IMG_4261.jpeg
END:VEVENT
BEGIN:VEVENT
DTSTART;TZID=America/Chicago:20281119T143000
DTEND;TZID=America/Chicago:20281119T153000
DTSTAMP:20260425T194723
CREATED:20250328T223853Z
LAST-MODIFIED:20260107T205539Z
UID:10000270-1858257000-1858260600@friends4life.org
SUMMARY:Sunday Playgroup
DESCRIPTION:Come meet our dogs looking for adopter and foster families at our shelter playgroup session. Whether you are looking for a new best friend\, or just revel in canine company\, feel welcome to join us at the shelter every Sunday afternoon\, from 2:30 – 3:30 PM\, as long as the weather permits!
URL:https://friends4life.org/events-calendar/sunday-playgroup-21/2028-11-19/
LOCATION:Friends For Life\, 107 E. 22nd St.\, Houston\, TX\, 77008\, United States
ATTACH;FMTTYPE=image/jpeg:https://friends4life.org/wp-content/uploads/2024/11/Dog-playgroup2.jpg
END:VEVENT
BEGIN:VEVENT
DTSTART;TZID=America/Chicago:20281120T191500
DTEND;TZID=America/Chicago:20281120T201500
DTSTAMP:20260425T194723
CREATED:20260303T185805Z
LAST-MODIFIED:20260305T020849Z
UID:10001344-1858360500-1858364100@friends4life.org
SUMMARY:Monday Group Run
DESCRIPTION:Live near the Houston Heights? Looking for a group run? \n\n\n\nEvery Monday evening\, a group of runners led by Melissa Taylor meets in the lobby of our animal shelter at 7:00 p.m. We head out at 7:15 p.m. from 107 East 22nd Street for a 4-mile run. Walkers cover 3 miles. \n\n\n\nGo at your own pace — no one gets left behind. We meet back at the shelter afterward to make sure everyone returns safely. \n\n\n\nBring a well-behaved dog\, or meet one of ours. 🐶
URL:https://friends4life.org/events-calendar/ffl-monday-run-club-2/2028-11-20/
LOCATION:Friends For Life animal shelter\, 107 E. 22nd St.\, Houston\, Texas\, 77008
ATTACH;FMTTYPE=image/jpeg:https://friends4life.org/wp-content/uploads/2026/03/IMG_4261.jpeg
END:VEVENT
BEGIN:VEVENT
DTSTART;TZID=America/Chicago:20281126T143000
DTEND;TZID=America/Chicago:20281126T153000
DTSTAMP:20260425T194723
CREATED:20250328T223853Z
LAST-MODIFIED:20260107T205539Z
UID:10000271-1858861800-1858865400@friends4life.org
SUMMARY:Sunday Playgroup
DESCRIPTION:Come meet our dogs looking for adopter and foster families at our shelter playgroup session. Whether you are looking for a new best friend\, or just revel in canine company\, feel welcome to join us at the shelter every Sunday afternoon\, from 2:30 – 3:30 PM\, as long as the weather permits!
URL:https://friends4life.org/events-calendar/sunday-playgroup-21/2028-11-26/
LOCATION:Friends For Life\, 107 E. 22nd St.\, Houston\, TX\, 77008\, United States
ATTACH;FMTTYPE=image/jpeg:https://friends4life.org/wp-content/uploads/2024/11/Dog-playgroup2.jpg
END:VEVENT
BEGIN:VEVENT
DTSTART;TZID=America/Chicago:20281127T191500
DTEND;TZID=America/Chicago:20281127T201500
DTSTAMP:20260425T194723
CREATED:20260303T185805Z
LAST-MODIFIED:20260305T020849Z
UID:10001345-1858965300-1858968900@friends4life.org
SUMMARY:Monday Group Run
DESCRIPTION:Live near the Houston Heights? Looking for a group run? \n\n\n\nEvery Monday evening\, a group of runners led by Melissa Taylor meets in the lobby of our animal shelter at 7:00 p.m. We head out at 7:15 p.m. from 107 East 22nd Street for a 4-mile run. Walkers cover 3 miles. \n\n\n\nGo at your own pace — no one gets left behind. We meet back at the shelter afterward to make sure everyone returns safely. \n\n\n\nBring a well-behaved dog\, or meet one of ours. 🐶
URL:https://friends4life.org/events-calendar/ffl-monday-run-club-2/2028-11-27/
LOCATION:Friends For Life animal shelter\, 107 E. 22nd St.\, Houston\, Texas\, 77008
ATTACH;FMTTYPE=image/jpeg:https://friends4life.org/wp-content/uploads/2026/03/IMG_4261.jpeg
END:VEVENT
BEGIN:VEVENT
DTSTART;TZID=America/Chicago:20281203T143000
DTEND;TZID=America/Chicago:20281203T153000
DTSTAMP:20260425T194723
CREATED:20250328T223853Z
LAST-MODIFIED:20260107T205539Z
UID:10000272-1859466600-1859470200@friends4life.org
SUMMARY:Sunday Playgroup
DESCRIPTION:Come meet our dogs looking for adopter and foster families at our shelter playgroup session. Whether you are looking for a new best friend\, or just revel in canine company\, feel welcome to join us at the shelter every Sunday afternoon\, from 2:30 – 3:30 PM\, as long as the weather permits!
URL:https://friends4life.org/events-calendar/sunday-playgroup-21/2028-12-03/
LOCATION:Friends For Life\, 107 E. 22nd St.\, Houston\, TX\, 77008\, United States
ATTACH;FMTTYPE=image/jpeg:https://friends4life.org/wp-content/uploads/2024/11/Dog-playgroup2.jpg
END:VEVENT
BEGIN:VEVENT
DTSTART;TZID=America/Chicago:20281204T191500
DTEND;TZID=America/Chicago:20281204T201500
DTSTAMP:20260425T194723
CREATED:20260303T185805Z
LAST-MODIFIED:20260305T020849Z
UID:10001346-1859570100-1859573700@friends4life.org
SUMMARY:Monday Group Run
DESCRIPTION:Live near the Houston Heights? Looking for a group run? \n\n\n\nEvery Monday evening\, a group of runners led by Melissa Taylor meets in the lobby of our animal shelter at 7:00 p.m. We head out at 7:15 p.m. from 107 East 22nd Street for a 4-mile run. Walkers cover 3 miles. \n\n\n\nGo at your own pace — no one gets left behind. We meet back at the shelter afterward to make sure everyone returns safely. \n\n\n\nBring a well-behaved dog\, or meet one of ours. 🐶
URL:https://friends4life.org/events-calendar/ffl-monday-run-club-2/2028-12-04/
LOCATION:Friends For Life animal shelter\, 107 E. 22nd St.\, Houston\, Texas\, 77008
ATTACH;FMTTYPE=image/jpeg:https://friends4life.org/wp-content/uploads/2026/03/IMG_4261.jpeg
END:VEVENT
BEGIN:VEVENT
DTSTART;TZID=America/Chicago:20281210T143000
DTEND;TZID=America/Chicago:20281210T153000
DTSTAMP:20260425T194723
CREATED:20250328T223853Z
LAST-MODIFIED:20260107T205539Z
UID:10000273-1860071400-1860075000@friends4life.org
SUMMARY:Sunday Playgroup
DESCRIPTION:Come meet our dogs looking for adopter and foster families at our shelter playgroup session. Whether you are looking for a new best friend\, or just revel in canine company\, feel welcome to join us at the shelter every Sunday afternoon\, from 2:30 – 3:30 PM\, as long as the weather permits!
URL:https://friends4life.org/events-calendar/sunday-playgroup-21/2028-12-10/
LOCATION:Friends For Life\, 107 E. 22nd St.\, Houston\, TX\, 77008\, United States
ATTACH;FMTTYPE=image/jpeg:https://friends4life.org/wp-content/uploads/2024/11/Dog-playgroup2.jpg
END:VEVENT
BEGIN:VEVENT
DTSTART;TZID=America/Chicago:20281211T191500
DTEND;TZID=America/Chicago:20281211T201500
DTSTAMP:20260425T194723
CREATED:20260303T185805Z
LAST-MODIFIED:20260305T020849Z
UID:10001347-1860174900-1860178500@friends4life.org
SUMMARY:Monday Group Run
DESCRIPTION:Live near the Houston Heights? Looking for a group run? \n\n\n\nEvery Monday evening\, a group of runners led by Melissa Taylor meets in the lobby of our animal shelter at 7:00 p.m. We head out at 7:15 p.m. from 107 East 22nd Street for a 4-mile run. Walkers cover 3 miles. \n\n\n\nGo at your own pace — no one gets left behind. We meet back at the shelter afterward to make sure everyone returns safely. \n\n\n\nBring a well-behaved dog\, or meet one of ours. 🐶
URL:https://friends4life.org/events-calendar/ffl-monday-run-club-2/2028-12-11/
LOCATION:Friends For Life animal shelter\, 107 E. 22nd St.\, Houston\, Texas\, 77008
ATTACH;FMTTYPE=image/jpeg:https://friends4life.org/wp-content/uploads/2026/03/IMG_4261.jpeg
END:VEVENT
BEGIN:VEVENT
DTSTART;TZID=America/Chicago:20281217T143000
DTEND;TZID=America/Chicago:20281217T153000
DTSTAMP:20260425T194723
CREATED:20250328T223853Z
LAST-MODIFIED:20260107T205539Z
UID:10000274-1860676200-1860679800@friends4life.org
SUMMARY:Sunday Playgroup
DESCRIPTION:Come meet our dogs looking for adopter and foster families at our shelter playgroup session. Whether you are looking for a new best friend\, or just revel in canine company\, feel welcome to join us at the shelter every Sunday afternoon\, from 2:30 – 3:30 PM\, as long as the weather permits!
URL:https://friends4life.org/events-calendar/sunday-playgroup-21/2028-12-17/
LOCATION:Friends For Life\, 107 E. 22nd St.\, Houston\, TX\, 77008\, United States
ATTACH;FMTTYPE=image/jpeg:https://friends4life.org/wp-content/uploads/2024/11/Dog-playgroup2.jpg
END:VEVENT
BEGIN:VEVENT
DTSTART;TZID=America/Chicago:20281218T191500
DTEND;TZID=America/Chicago:20281218T201500
DTSTAMP:20260425T194723
CREATED:20260303T185805Z
LAST-MODIFIED:20260305T020849Z
UID:10001348-1860779700-1860783300@friends4life.org
SUMMARY:Monday Group Run
DESCRIPTION:Live near the Houston Heights? Looking for a group run? \n\n\n\nEvery Monday evening\, a group of runners led by Melissa Taylor meets in the lobby of our animal shelter at 7:00 p.m. We head out at 7:15 p.m. from 107 East 22nd Street for a 4-mile run. Walkers cover 3 miles. \n\n\n\nGo at your own pace — no one gets left behind. We meet back at the shelter afterward to make sure everyone returns safely. \n\n\n\nBring a well-behaved dog\, or meet one of ours. 🐶
URL:https://friends4life.org/events-calendar/ffl-monday-run-club-2/2028-12-18/
LOCATION:Friends For Life animal shelter\, 107 E. 22nd St.\, Houston\, Texas\, 77008
ATTACH;FMTTYPE=image/jpeg:https://friends4life.org/wp-content/uploads/2026/03/IMG_4261.jpeg
END:VEVENT
BEGIN:VEVENT
DTSTART;TZID=America/Chicago:20281224T143000
DTEND;TZID=America/Chicago:20281224T153000
DTSTAMP:20260425T194723
CREATED:20250328T223853Z
LAST-MODIFIED:20260107T205539Z
UID:10000275-1861281000-1861284600@friends4life.org
SUMMARY:Sunday Playgroup
DESCRIPTION:Come meet our dogs looking for adopter and foster families at our shelter playgroup session. Whether you are looking for a new best friend\, or just revel in canine company\, feel welcome to join us at the shelter every Sunday afternoon\, from 2:30 – 3:30 PM\, as long as the weather permits!
URL:https://friends4life.org/events-calendar/sunday-playgroup-21/2028-12-24/
LOCATION:Friends For Life\, 107 E. 22nd St.\, Houston\, TX\, 77008\, United States
ATTACH;FMTTYPE=image/jpeg:https://friends4life.org/wp-content/uploads/2024/11/Dog-playgroup2.jpg
END:VEVENT
BEGIN:VEVENT
DTSTART;TZID=America/Chicago:20281225T191500
DTEND;TZID=America/Chicago:20281225T201500
DTSTAMP:20260425T194723
CREATED:20260303T185805Z
LAST-MODIFIED:20260305T020849Z
UID:10001349-1861384500-1861388100@friends4life.org
SUMMARY:Monday Group Run
DESCRIPTION:Live near the Houston Heights? Looking for a group run? \n\n\n\nEvery Monday evening\, a group of runners led by Melissa Taylor meets in the lobby of our animal shelter at 7:00 p.m. We head out at 7:15 p.m. from 107 East 22nd Street for a 4-mile run. Walkers cover 3 miles. \n\n\n\nGo at your own pace — no one gets left behind. We meet back at the shelter afterward to make sure everyone returns safely. \n\n\n\nBring a well-behaved dog\, or meet one of ours. 🐶
URL:https://friends4life.org/events-calendar/ffl-monday-run-club-2/2028-12-25/
LOCATION:Friends For Life animal shelter\, 107 E. 22nd St.\, Houston\, Texas\, 77008
ATTACH;FMTTYPE=image/jpeg:https://friends4life.org/wp-content/uploads/2026/03/IMG_4261.jpeg
END:VEVENT
BEGIN:VEVENT
DTSTART;TZID=America/Chicago:20281231T143000
DTEND;TZID=America/Chicago:20281231T153000
DTSTAMP:20260425T194723
CREATED:20250328T223853Z
LAST-MODIFIED:20260107T205539Z
UID:10000276-1861885800-1861889400@friends4life.org
SUMMARY:Sunday Playgroup
DESCRIPTION:Come meet our dogs looking for adopter and foster families at our shelter playgroup session. Whether you are looking for a new best friend\, or just revel in canine company\, feel welcome to join us at the shelter every Sunday afternoon\, from 2:30 – 3:30 PM\, as long as the weather permits!
URL:https://friends4life.org/events-calendar/sunday-playgroup-21/2028-12-31/
LOCATION:Friends For Life\, 107 E. 22nd St.\, Houston\, TX\, 77008\, United States
ATTACH;FMTTYPE=image/jpeg:https://friends4life.org/wp-content/uploads/2024/11/Dog-playgroup2.jpg
END:VEVENT
BEGIN:VEVENT
DTSTART;TZID=America/Chicago:20290101T191500
DTEND;TZID=America/Chicago:20290101T201500
DTSTAMP:20260425T194723
CREATED:20260303T185805Z
LAST-MODIFIED:20260305T020849Z
UID:10001350-1861989300-1861992900@friends4life.org
SUMMARY:Monday Group Run
DESCRIPTION:Live near the Houston Heights? Looking for a group run? \n\n\n\nEvery Monday evening\, a group of runners led by Melissa Taylor meets in the lobby of our animal shelter at 7:00 p.m. We head out at 7:15 p.m. from 107 East 22nd Street for a 4-mile run. Walkers cover 3 miles. \n\n\n\nGo at your own pace — no one gets left behind. We meet back at the shelter afterward to make sure everyone returns safely. \n\n\n\nBring a well-behaved dog\, or meet one of ours. 🐶
URL:https://friends4life.org/events-calendar/ffl-monday-run-club-2/2029-01-01/
LOCATION:Friends For Life animal shelter\, 107 E. 22nd St.\, Houston\, Texas\, 77008
ATTACH;FMTTYPE=image/jpeg:https://friends4life.org/wp-content/uploads/2026/03/IMG_4261.jpeg
END:VEVENT
BEGIN:VEVENT
DTSTART;TZID=America/Chicago:20290107T143000
DTEND;TZID=America/Chicago:20290107T153000
DTSTAMP:20260425T194723
CREATED:20250328T223853Z
LAST-MODIFIED:20260107T205539Z
UID:10000277-1862490600-1862494200@friends4life.org
SUMMARY:Sunday Playgroup
DESCRIPTION:Come meet our dogs looking for adopter and foster families at our shelter playgroup session. Whether you are looking for a new best friend\, or just revel in canine company\, feel welcome to join us at the shelter every Sunday afternoon\, from 2:30 – 3:30 PM\, as long as the weather permits!
URL:https://friends4life.org/events-calendar/sunday-playgroup-21/2029-01-07/
LOCATION:Friends For Life\, 107 E. 22nd St.\, Houston\, TX\, 77008\, United States
ATTACH;FMTTYPE=image/jpeg:https://friends4life.org/wp-content/uploads/2024/11/Dog-playgroup2.jpg
END:VEVENT
BEGIN:VEVENT
DTSTART;TZID=America/Chicago:20290108T191500
DTEND;TZID=America/Chicago:20290108T201500
DTSTAMP:20260425T194723
CREATED:20260303T185805Z
LAST-MODIFIED:20260305T020849Z
UID:10001351-1862594100-1862597700@friends4life.org
SUMMARY:Monday Group Run
DESCRIPTION:Live near the Houston Heights? Looking for a group run? \n\n\n\nEvery Monday evening\, a group of runners led by Melissa Taylor meets in the lobby of our animal shelter at 7:00 p.m. We head out at 7:15 p.m. from 107 East 22nd Street for a 4-mile run. Walkers cover 3 miles. \n\n\n\nGo at your own pace — no one gets left behind. We meet back at the shelter afterward to make sure everyone returns safely. \n\n\n\nBring a well-behaved dog\, or meet one of ours. 🐶
URL:https://friends4life.org/events-calendar/ffl-monday-run-club-2/2029-01-08/
LOCATION:Friends For Life animal shelter\, 107 E. 22nd St.\, Houston\, Texas\, 77008
ATTACH;FMTTYPE=image/jpeg:https://friends4life.org/wp-content/uploads/2026/03/IMG_4261.jpeg
END:VEVENT
BEGIN:VEVENT
DTSTART;TZID=America/Chicago:20290114T143000
DTEND;TZID=America/Chicago:20290114T153000
DTSTAMP:20260425T194723
CREATED:20250328T223853Z
LAST-MODIFIED:20260107T205539Z
UID:10000278-1863095400-1863099000@friends4life.org
SUMMARY:Sunday Playgroup
DESCRIPTION:Come meet our dogs looking for adopter and foster families at our shelter playgroup session. Whether you are looking for a new best friend\, or just revel in canine company\, feel welcome to join us at the shelter every Sunday afternoon\, from 2:30 – 3:30 PM\, as long as the weather permits!
URL:https://friends4life.org/events-calendar/sunday-playgroup-21/2029-01-14/
LOCATION:Friends For Life\, 107 E. 22nd St.\, Houston\, TX\, 77008\, United States
ATTACH;FMTTYPE=image/jpeg:https://friends4life.org/wp-content/uploads/2024/11/Dog-playgroup2.jpg
END:VEVENT
BEGIN:VEVENT
DTSTART;TZID=America/Chicago:20290115T191500
DTEND;TZID=America/Chicago:20290115T201500
DTSTAMP:20260425T194723
CREATED:20260303T185805Z
LAST-MODIFIED:20260305T020849Z
UID:10001352-1863198900-1863202500@friends4life.org
SUMMARY:Monday Group Run
DESCRIPTION:Live near the Houston Heights? Looking for a group run? \n\n\n\nEvery Monday evening\, a group of runners led by Melissa Taylor meets in the lobby of our animal shelter at 7:00 p.m. We head out at 7:15 p.m. from 107 East 22nd Street for a 4-mile run. Walkers cover 3 miles. \n\n\n\nGo at your own pace — no one gets left behind. We meet back at the shelter afterward to make sure everyone returns safely. \n\n\n\nBring a well-behaved dog\, or meet one of ours. 🐶
URL:https://friends4life.org/events-calendar/ffl-monday-run-club-2/2029-01-15/
LOCATION:Friends For Life animal shelter\, 107 E. 22nd St.\, Houston\, Texas\, 77008
ATTACH;FMTTYPE=image/jpeg:https://friends4life.org/wp-content/uploads/2026/03/IMG_4261.jpeg
END:VEVENT
BEGIN:VEVENT
DTSTART;TZID=America/Chicago:20290121T143000
DTEND;TZID=America/Chicago:20290121T153000
DTSTAMP:20260425T194723
CREATED:20250328T223853Z
LAST-MODIFIED:20260107T205539Z
UID:10000279-1863700200-1863703800@friends4life.org
SUMMARY:Sunday Playgroup
DESCRIPTION:Come meet our dogs looking for adopter and foster families at our shelter playgroup session. Whether you are looking for a new best friend\, or just revel in canine company\, feel welcome to join us at the shelter every Sunday afternoon\, from 2:30 – 3:30 PM\, as long as the weather permits!
URL:https://friends4life.org/events-calendar/sunday-playgroup-21/2029-01-21/
LOCATION:Friends For Life\, 107 E. 22nd St.\, Houston\, TX\, 77008\, United States
ATTACH;FMTTYPE=image/jpeg:https://friends4life.org/wp-content/uploads/2024/11/Dog-playgroup2.jpg
END:VEVENT
BEGIN:VEVENT
DTSTART;TZID=America/Chicago:20290122T191500
DTEND;TZID=America/Chicago:20290122T201500
DTSTAMP:20260425T194723
CREATED:20260303T185805Z
LAST-MODIFIED:20260305T020849Z
UID:10001353-1863803700-1863807300@friends4life.org
SUMMARY:Monday Group Run
DESCRIPTION:Live near the Houston Heights? Looking for a group run? \n\n\n\nEvery Monday evening\, a group of runners led by Melissa Taylor meets in the lobby of our animal shelter at 7:00 p.m. We head out at 7:15 p.m. from 107 East 22nd Street for a 4-mile run. Walkers cover 3 miles. \n\n\n\nGo at your own pace — no one gets left behind. We meet back at the shelter afterward to make sure everyone returns safely. \n\n\n\nBring a well-behaved dog\, or meet one of ours. 🐶
URL:https://friends4life.org/events-calendar/ffl-monday-run-club-2/2029-01-22/
LOCATION:Friends For Life animal shelter\, 107 E. 22nd St.\, Houston\, Texas\, 77008
ATTACH;FMTTYPE=image/jpeg:https://friends4life.org/wp-content/uploads/2026/03/IMG_4261.jpeg
END:VEVENT
BEGIN:VEVENT
DTSTART;TZID=America/Chicago:20290128T143000
DTEND;TZID=America/Chicago:20290128T153000
DTSTAMP:20260425T194723
CREATED:20250328T223853Z
LAST-MODIFIED:20260107T205539Z
UID:10000280-1864305000-1864308600@friends4life.org
SUMMARY:Sunday Playgroup
DESCRIPTION:Come meet our dogs looking for adopter and foster families at our shelter playgroup session. Whether you are looking for a new best friend\, or just revel in canine company\, feel welcome to join us at the shelter every Sunday afternoon\, from 2:30 – 3:30 PM\, as long as the weather permits!
URL:https://friends4life.org/events-calendar/sunday-playgroup-21/2029-01-28/
LOCATION:Friends For Life\, 107 E. 22nd St.\, Houston\, TX\, 77008\, United States
ATTACH;FMTTYPE=image/jpeg:https://friends4life.org/wp-content/uploads/2024/11/Dog-playgroup2.jpg
END:VEVENT
BEGIN:VEVENT
DTSTART;TZID=America/Chicago:20290129T191500
DTEND;TZID=America/Chicago:20290129T201500
DTSTAMP:20260425T194723
CREATED:20260303T185805Z
LAST-MODIFIED:20260305T020849Z
UID:10001354-1864408500-1864412100@friends4life.org
SUMMARY:Monday Group Run
DESCRIPTION:Live near the Houston Heights? Looking for a group run? \n\n\n\nEvery Monday evening\, a group of runners led by Melissa Taylor meets in the lobby of our animal shelter at 7:00 p.m. We head out at 7:15 p.m. from 107 East 22nd Street for a 4-mile run. Walkers cover 3 miles. \n\n\n\nGo at your own pace — no one gets left behind. We meet back at the shelter afterward to make sure everyone returns safely. \n\n\n\nBring a well-behaved dog\, or meet one of ours. 🐶
URL:https://friends4life.org/events-calendar/ffl-monday-run-club-2/2029-01-29/
LOCATION:Friends For Life animal shelter\, 107 E. 22nd St.\, Houston\, Texas\, 77008
ATTACH;FMTTYPE=image/jpeg:https://friends4life.org/wp-content/uploads/2026/03/IMG_4261.jpeg
END:VEVENT
BEGIN:VEVENT
DTSTART;TZID=America/Chicago:20290204T143000
DTEND;TZID=America/Chicago:20290204T153000
DTSTAMP:20260425T194723
CREATED:20250328T223853Z
LAST-MODIFIED:20260107T205539Z
UID:10000281-1864909800-1864913400@friends4life.org
SUMMARY:Sunday Playgroup
DESCRIPTION:Come meet our dogs looking for adopter and foster families at our shelter playgroup session. Whether you are looking for a new best friend\, or just revel in canine company\, feel welcome to join us at the shelter every Sunday afternoon\, from 2:30 – 3:30 PM\, as long as the weather permits!
URL:https://friends4life.org/events-calendar/sunday-playgroup-21/2029-02-04/
LOCATION:Friends For Life\, 107 E. 22nd St.\, Houston\, TX\, 77008\, United States
ATTACH;FMTTYPE=image/jpeg:https://friends4life.org/wp-content/uploads/2024/11/Dog-playgroup2.jpg
END:VEVENT
BEGIN:VEVENT
DTSTART;TZID=America/Chicago:20290205T191500
DTEND;TZID=America/Chicago:20290205T201500
DTSTAMP:20260425T194723
CREATED:20260303T185805Z
LAST-MODIFIED:20260305T020849Z
UID:10001355-1865013300-1865016900@friends4life.org
SUMMARY:Monday Group Run
DESCRIPTION:Live near the Houston Heights? Looking for a group run? \n\n\n\nEvery Monday evening\, a group of runners led by Melissa Taylor meets in the lobby of our animal shelter at 7:00 p.m. We head out at 7:15 p.m. from 107 East 22nd Street for a 4-mile run. Walkers cover 3 miles. \n\n\n\nGo at your own pace — no one gets left behind. We meet back at the shelter afterward to make sure everyone returns safely. \n\n\n\nBring a well-behaved dog\, or meet one of ours. 🐶
URL:https://friends4life.org/events-calendar/ffl-monday-run-club-2/2029-02-05/
LOCATION:Friends For Life animal shelter\, 107 E. 22nd St.\, Houston\, Texas\, 77008
ATTACH;FMTTYPE=image/jpeg:https://friends4life.org/wp-content/uploads/2026/03/IMG_4261.jpeg
END:VEVENT
BEGIN:VEVENT
DTSTART;TZID=America/Chicago:20290211T143000
DTEND;TZID=America/Chicago:20290211T153000
DTSTAMP:20260425T194723
CREATED:20250328T223853Z
LAST-MODIFIED:20260107T205539Z
UID:10000282-1865514600-1865518200@friends4life.org
SUMMARY:Sunday Playgroup
DESCRIPTION:Come meet our dogs looking for adopter and foster families at our shelter playgroup session. Whether you are looking for a new best friend\, or just revel in canine company\, feel welcome to join us at the shelter every Sunday afternoon\, from 2:30 – 3:30 PM\, as long as the weather permits!
URL:https://friends4life.org/events-calendar/sunday-playgroup-21/2029-02-11/
LOCATION:Friends For Life\, 107 E. 22nd St.\, Houston\, TX\, 77008\, United States
ATTACH;FMTTYPE=image/jpeg:https://friends4life.org/wp-content/uploads/2024/11/Dog-playgroup2.jpg
END:VEVENT
BEGIN:VEVENT
DTSTART;TZID=America/Chicago:20290212T191500
DTEND;TZID=America/Chicago:20290212T201500
DTSTAMP:20260425T194723
CREATED:20260303T185805Z
LAST-MODIFIED:20260305T020849Z
UID:10001356-1865618100-1865621700@friends4life.org
SUMMARY:Monday Group Run
DESCRIPTION:Live near the Houston Heights? Looking for a group run? \n\n\n\nEvery Monday evening\, a group of runners led by Melissa Taylor meets in the lobby of our animal shelter at 7:00 p.m. We head out at 7:15 p.m. from 107 East 22nd Street for a 4-mile run. Walkers cover 3 miles. \n\n\n\nGo at your own pace — no one gets left behind. We meet back at the shelter afterward to make sure everyone returns safely. \n\n\n\nBring a well-behaved dog\, or meet one of ours. 🐶
URL:https://friends4life.org/events-calendar/ffl-monday-run-club-2/2029-02-12/
LOCATION:Friends For Life animal shelter\, 107 E. 22nd St.\, Houston\, Texas\, 77008
ATTACH;FMTTYPE=image/jpeg:https://friends4life.org/wp-content/uploads/2026/03/IMG_4261.jpeg
END:VEVENT
BEGIN:VEVENT
DTSTART;TZID=America/Chicago:20290218T143000
DTEND;TZID=America/Chicago:20290218T153000
DTSTAMP:20260425T194723
CREATED:20250328T223853Z
LAST-MODIFIED:20260107T205539Z
UID:10000283-1866119400-1866123000@friends4life.org
SUMMARY:Sunday Playgroup
DESCRIPTION:Come meet our dogs looking for adopter and foster families at our shelter playgroup session. Whether you are looking for a new best friend\, or just revel in canine company\, feel welcome to join us at the shelter every Sunday afternoon\, from 2:30 – 3:30 PM\, as long as the weather permits!
URL:https://friends4life.org/events-calendar/sunday-playgroup-21/2029-02-18/
LOCATION:Friends For Life\, 107 E. 22nd St.\, Houston\, TX\, 77008\, United States
ATTACH;FMTTYPE=image/jpeg:https://friends4life.org/wp-content/uploads/2024/11/Dog-playgroup2.jpg
END:VEVENT
BEGIN:VEVENT
DTSTART;TZID=America/Chicago:20290219T191500
DTEND;TZID=America/Chicago:20290219T201500
DTSTAMP:20260425T194723
CREATED:20260303T185805Z
LAST-MODIFIED:20260305T020849Z
UID:10001357-1866222900-1866226500@friends4life.org
SUMMARY:Monday Group Run
DESCRIPTION:Live near the Houston Heights? Looking for a group run? \n\n\n\nEvery Monday evening\, a group of runners led by Melissa Taylor meets in the lobby of our animal shelter at 7:00 p.m. We head out at 7:15 p.m. from 107 East 22nd Street for a 4-mile run. Walkers cover 3 miles. \n\n\n\nGo at your own pace — no one gets left behind. We meet back at the shelter afterward to make sure everyone returns safely. \n\n\n\nBring a well-behaved dog\, or meet one of ours. 🐶
URL:https://friends4life.org/events-calendar/ffl-monday-run-club-2/2029-02-19/
LOCATION:Friends For Life animal shelter\, 107 E. 22nd St.\, Houston\, Texas\, 77008
ATTACH;FMTTYPE=image/jpeg:https://friends4life.org/wp-content/uploads/2026/03/IMG_4261.jpeg
END:VEVENT
BEGIN:VEVENT
DTSTART;TZID=America/Chicago:20290225T143000
DTEND;TZID=America/Chicago:20290225T153000
DTSTAMP:20260425T194723
CREATED:20250328T223853Z
LAST-MODIFIED:20260107T205539Z
UID:10000284-1866724200-1866727800@friends4life.org
SUMMARY:Sunday Playgroup
DESCRIPTION:Come meet our dogs looking for adopter and foster families at our shelter playgroup session. Whether you are looking for a new best friend\, or just revel in canine company\, feel welcome to join us at the shelter every Sunday afternoon\, from 2:30 – 3:30 PM\, as long as the weather permits!
URL:https://friends4life.org/events-calendar/sunday-playgroup-21/2029-02-25/
LOCATION:Friends For Life\, 107 E. 22nd St.\, Houston\, TX\, 77008\, United States
ATTACH;FMTTYPE=image/jpeg:https://friends4life.org/wp-content/uploads/2024/11/Dog-playgroup2.jpg
END:VEVENT
END:VCALENDAR